BEGIN:VCALENDAR
VERSION:2.0
PRODID:-//Stay On Your Feet® - ECPv5.0.2.1//NONSGML v1.0//EN
CALSCALE:GREGORIAN
METHOD:PUBLISH
X-WR-CALNAME:Stay On Your Feet®
X-ORIGINAL-URL:https://www.stayonyourfeet.com.au
X-WR-CALDESC:Events for Stay On Your Feet®
BEGIN:VTIMEZONE
TZID:Australia/Perth
BEGIN:STANDARD
TZOFFSETFROM:+0800
TZOFFSETTO:+0800
TZNAME:AWST
DTSTART:20200101T000000
END:STANDARD
END:VTIMEZONE
BEGIN:VEVENT
DTSTART;TZID=Australia/Perth:20200304T100000
DTEND;TZID=Australia/Perth:20200304T120000
DTSTAMP:20200229T044636
CREATED:20200130T053036Z
LAST-MODIFIED:20200130T055054Z
UID:7563-1583316000-1583323200@www.stayonyourfeet.com.au
SUMMARY:Improve Your Health campaign launch - Albany
DESCRIPTION:Join us as we launch our Improve Your Health campaign. \nThis free event will include a range of activities that encourage older adults to make simple changes\, which can improve a person’s health and wellbeing and promote active ageing.  During the event you can: \n\nLearn about how to check your medicines to prevent falls from a local Pharmacist\nHear from a local Dietitian about how to fuel your body with nutritious foods to stay strong\nVisit information stalls from local services in Albany\nLearn about the role of a healthy diet\, cognition and medication intake on an individual’s falls risk\nEnjoy morning tea and refreshments\n\nPlease RSVP to Injury Matters on 1300 30 35 40 or online via http://tiny.cc/rdscjz \n
URL:https://www.stayonyourfeet.com.au/event/improve-your-health-campaign-launch-albany/
LOCATION:Albany Leisure and Aquatic Centre\, 52-70 Barker Road\, Centennial Park\, WA\, 6330\, Australia
CATEGORIES:Community members,Everyone,Great Southern
ORGANIZER;CN="Injury%20Matters":MAILTO:info@injurymatters.org.au
END:VEVENT
BEGIN:VEVENT
DTSTART;TZID=Australia/Perth:20200314T093000
DTEND;TZID=Australia/Perth:20200314T110000
DTSTAMP:20200229T044636
CREATED:20200110T004724Z
LAST-MODIFIED:20200110T010936Z
UID:7531-1584178200-1584183600@www.stayonyourfeet.com.au
SUMMARY:Falls Prevention for Podiatrists Workshop
DESCRIPTION:Join Injury Matters and Podiatry WA for the ‘Falls Prevention for Podiatrists Workshop’ as we learn about effective podiatry measures for falls prevention as well as falls assessment/screening tools and referral pathways. \nPresentations will be delivered by Theresa Miller\, Senior Podiatrist at East Metropolitan Health Service and Tony Petta\, Senior Physiotherapist at Falls Clinic\, Department of Health. This workshop will be a practical focus on strategies for preventing falls in older adults and will be tailored to meet the needs of Podiatrists. \nThe workshop aims to:\n• Increase understanding of falls risk factors.\n• Increased knowledge of strategies to reduce falls risk factors related to foot issues.\n• Increased understanding of how to complete a falls risk assessment/screening tools.\n• Increased understanding of falls referral pathways in Western Australia. \nClick here to register \n
URL:https://www.stayonyourfeet.com.au/event/falls-prevention-for-podiatrists-workshop/
LOCATION:Tomasi Room\, Bendat Parent and Community Centre\, 36 Dodd st\, Wembley
ORGANIZER;CN="Injury%20Matters":MAILTO:info@injurymatters.org.au
END:VEVENT
BEGIN:VEVENT
DTSTART;TZID=Australia/Perth:20200323T160000
DTEND;TZID=Australia/Perth:20200323T200000
DTSTAMP:20200229T044636
CREATED:20200110T010622Z
LAST-MODIFIED:20200110T010750Z
UID:7539-1584979200-1584993600@www.stayonyourfeet.com.au
SUMMARY:Vision and Falls Prevention Workshop
DESCRIPTION:Join Injury Matters and Vision Australia for the ‘Vision and Falls Prevention Workshop’ as we learn how to prevent falls in older adults through: \n\nIdentifying age-related vision impairments;\nUnderstanding the risk factors for falls prevention in people who are blind or have low vision; and\nLearn appropriate interventions for falls prevention.\n\nPresentations will be delivered by Jacob Nabill\, Dave Hasmukh (Orientation and Mobility Specialist/Assistive Technology Specialist) and Aleysha Parker (Occupational Therapist/Assistive Technology Specialist) from Vision Australia. \nClick here to register \n
URL:https://www.stayonyourfeet.com.au/event/vision-and-falls-prevention-workshop/
LOCATION:Harry Perkins Institute of Mecial Research\, QEII Centre\, 6 Verdun Street\, Nedlands
ORGANIZER;CN="Injury%20Matters":MAILTO:info@injurymatters.org.au
END:VEVENT
END:VCALENDAR